Package: ggtree Version: 4.1.1 Maintainer: Guangchuang Yu MaintainerEmail: guangchuangyu at gmail.com git_url: https://git.bioconductor.org/packages/ggtree git_branch: devel git_last_commit: af2f26c git_last_commit_date: 2025-10-30 10:26:19 -0400 (Thu, 30 Oct 2025)