Package: ggbio Version: 1.59.0 Command: /home/rapidbuild/bbs-3.22-bioc-rapid/R/bin/R CMD INSTALL ggbio StartedAt: 2025-10-30 12:24:04 -0400 (Thu, 30 Oct 2025) EndedAt: 2025-10-30 12:24:05 -0400 (Thu, 30 Oct 2025) EllapsedTime: 0.2 seconds RetCode: 1 Status: ERROR