Package: ggbio Version: 1.57.1 Command: /home/rapidbuild/bbs-3.22-bioc-rapid/R/bin/R CMD check --install=check:ggbio.install-out.txt --library=/home/rapidbuild/bbs-3.22-bioc-rapid/R/site-library --timings ggbio_1.57.1.tar.gz StartedAt: 2025-10-25 20:25:45 -0400 (Sat, 25 Oct 2025) EndedAt: 2025-10-25 20:37:40 -0400 (Sat, 25 Oct 2025) EllapsedTime: 714.8 seconds RetCode: 0 Status: WARNINGS CheckDir: ggbio.Rcheck Warnings: 2