Package: gage Version: 2.61.0 Maintainer: Weijun Luo MaintainerEmail: luo_weijun at yahoo.com git_url: https://git.bioconductor.org/packages/gage git_branch: devel git_last_commit: e6e1013 git_last_commit_date: 2025-10-29 10:05:53 -0400 (Wed, 29 Oct 2025)