Package: flowViz Version: 1.75.0 Maintainer: Mike Jiang MaintainerEmail: mike at ozette.com git_url: https://git.bioconductor.org/packages/flowViz git_branch: devel git_last_commit: 0ebf1eb git_last_commit_date: 2025-10-29 09:58:41 -0400 (Wed, 29 Oct 2025)