Package: flowStats Version: 4.23.0 Maintainer: Greg Finak , Mike Jiang MaintainerEmail: mike at ozette.com git_url: https://git.bioconductor.org/packages/flowStats git_branch: devel git_last_commit: cc57dce git_last_commit_date: 2025-10-29 10:02:44 -0400 (Wed, 29 Oct 2025)