Package: fgsea Version: 1.37.0 Maintainer: Alexey Sergushichev MaintainerEmail: alsergbox at gmail.com git_url: https://git.bioconductor.org/packages/fgsea git_branch: devel git_last_commit: f3c5a25 git_last_commit_date: 2025-10-29 10:32:59 -0400 (Wed, 29 Oct 2025)