############################################################################## ############################################################################## ### ### Running command: ### ### /home/rapidbuild/bbs-3.22-bioc-rapid/R/bin/R CMD INSTALL ensembldb ### ############################################################################## ############################################################################## * installing to library ‘/media/volume/teran2_disk/rapidbuild/bbs-3.22-bioc-rapid/R/site-library’ ERROR: dependencies ‘GenomicFeatures’, ‘rtracklayer’ are not available for package ‘ensembldb’ Perhaps try a variation of: install.packages(c('GenomicFeatures', 'rtracklayer')) * removing ‘/media/volume/teran2_disk/rapidbuild/bbs-3.22-bioc-rapid/R/site-library/ensembldb’