Package: ensembldb Version: 2.35.0 Maintainer: Johannes Rainer MaintainerEmail: johannes.rainer at eurac.edu git_url: https://git.bioconductor.org/packages/ensembldb git_branch: devel git_last_commit: a74ca18 git_last_commit_date: 2025-10-29 10:24:50 -0400 (Wed, 29 Oct 2025)