Package: eds Version: 1.13.0 Command: /home/rapidbuild/bbs-3.22-bioc-rapid/R/bin/R CMD INSTALL eds StartedAt: 2025-10-30 12:08:09 -0400 (Thu, 30 Oct 2025) EndedAt: 2025-10-30 12:08:17 -0400 (Thu, 30 Oct 2025) EllapsedTime: 8.2 seconds RetCode: 0 Status: OK