Package: densvis Version: 1.21.0 Command: /home/rapidbuild/bbs-3.22-bioc-rapid/R/bin/R CMD check --install=check:densvis.install-out.txt --library=/home/rapidbuild/bbs-3.22-bioc-rapid/R/site-library --timings densvis_1.21.0.tar.gz StartedAt: 2025-10-30 13:24:54 -0400 (Thu, 30 Oct 2025) EndedAt: 2025-10-30 13:26:59 -0400 (Thu, 30 Oct 2025) EllapsedTime: 124.6 seconds RetCode: 0 Status: OK CheckDir: densvis.Rcheck Warnings: 0