Package: csaw Version: 1.45.0 Command: /home/rapidbuild/bbs-3.22-bioc-rapid/R/bin/R CMD check --install=check:csaw.install-out.txt --library=/home/rapidbuild/bbs-3.22-bioc-rapid/R/site-library --timings csaw_1.45.0.tar.gz StartedAt: 2025-10-30 13:23:11 -0400 (Thu, 30 Oct 2025) EndedAt: 2025-10-30 13:23:14 -0400 (Thu, 30 Oct 2025) EllapsedTime: 3.0 seconds RetCode: 1 Status: ERROR CheckDir: csaw.Rcheck Warnings: NA