Package: clusterProfiler Version: 4.19.0 Command: /home/rapidbuild/bbs-3.22-bioc-rapid/R/bin/R CMD check --install=check:clusterProfiler.install-out.txt --library=/home/rapidbuild/bbs-3.22-bioc-rapid/R/site-library --timings clusterProfiler_4.19.0.tar.gz StartedAt: 2025-10-30 13:22:28 -0400 (Thu, 30 Oct 2025) EndedAt: 2025-10-30 13:22:31 -0400 (Thu, 30 Oct 2025) EllapsedTime: 3.0 seconds RetCode: 1 Status: ERROR CheckDir: clusterProfiler.Rcheck Warnings: NA