Package: chihaya Version: 1.11.0 Command: /home/rapidbuild/bbs-3.22-bioc-rapid/R/bin/R CMD INSTALL chihaya StartedAt: 2025-10-30 12:15:06 -0400 (Thu, 30 Oct 2025) EndedAt: 2025-10-30 12:15:33 -0400 (Thu, 30 Oct 2025) EllapsedTime: 27.2 seconds RetCode: 0 Status: OK