Package: chihaya Version: 1.11.0 Command: /home/rapidbuild/bbs-3.22-bioc-rapid/R/bin/R CMD build --keep-empty-dirs --no-resave-data chihaya StartedAt: 2025-10-30 12:29:36 -0400 (Thu, 30 Oct 2025) EndedAt: 2025-10-30 12:30:10 -0400 (Thu, 30 Oct 2025) EllapsedTime: 34.3 seconds RetCode: 0 Status: OK PackageFile: chihaya_1.11.0.tar.gz PackageFileSize: 258.2 KiB