Package: chihaya Version: 1.11.0 Maintainer: Aaron Lun MaintainerEmail: infinite.monkeys.with.keyboards at gmail.com git_url: https://git.bioconductor.org/packages/chihaya git_branch: devel git_last_commit: d520e49 git_last_commit_date: 2025-10-29 11:21:37 -0400 (Wed, 29 Oct 2025)