Package: bsseq Version: 1.47.0 Maintainer: Kasper Daniel Hansen MaintainerEmail: kasperdanielhansen at gmail.com git_url: https://git.bioconductor.org/packages/bsseq git_branch: devel git_last_commit: a627872 git_last_commit_date: 2025-10-29 10:11:31 -0400 (Wed, 29 Oct 2025)