Package: biomformat Version: 1.39.0 Maintainer: Paul J. McMurdie MaintainerEmail: mcmurdie at alumni.stanford.edu git_url: https://git.bioconductor.org/packages/biomformat git_branch: devel git_last_commit: 7f14801 git_last_commit_date: 2025-10-29 10:29:00 -0400 (Wed, 29 Oct 2025)