Package: biomaRt Version: 2.67.0 Maintainer: Hugo Gruson MaintainerEmail: hugo.gruson at embl.de git_url: https://git.bioconductor.org/packages/biomaRt git_branch: devel git_last_commit: 1c6179c git_last_commit_date: 2025-10-29 09:56:01 -0400 (Wed, 29 Oct 2025)