Package: beachmat Version: 2.27.0 Maintainer: Aaron Lun MaintainerEmail: infinite.monkeys.with.keyboards at gmail.com git_url: https://git.bioconductor.org/packages/beachmat git_branch: devel git_last_commit: 06edf7e git_last_commit_date: 2025-10-29 10:39:35 -0400 (Wed, 29 Oct 2025)