Package: batchelor Version: 1.27.0 Maintainer: Aaron Lun MaintainerEmail: infinite.monkeys.with.keyboards at gmail.com git_url: https://git.bioconductor.org/packages/batchelor git_branch: devel git_last_commit: bb31e4b git_last_commit_date: 2025-10-29 10:51:04 -0400 (Wed, 29 Oct 2025)