Package: basilisk.utils Version: 1.23.0 Command: /home/rapidbuild/bbs-3.22-bioc-rapid/R/bin/R CMD INSTALL basilisk.utils StartedAt: 2025-10-30 12:08:20 -0400 (Thu, 30 Oct 2025) EndedAt: 2025-10-30 12:08:22 -0400 (Thu, 30 Oct 2025) EllapsedTime: 2.0 seconds RetCode: 0 Status: OK