Package: basilisk.utils Version: 1.23.0 Command: /home/rapidbuild/bbs-3.22-bioc-rapid/R/bin/R CMD check --install=check:basilisk.utils.install-out.txt --library=/home/rapidbuild/bbs-3.22-bioc-rapid/R/site-library --timings basilisk.utils_1.23.0.tar.gz StartedAt: 2025-10-30 13:17:31 -0400 (Thu, 30 Oct 2025) EndedAt: 2025-10-30 13:18:42 -0400 (Thu, 30 Oct 2025) EllapsedTime: 71.0 seconds RetCode: 0 Status: OK CheckDir: basilisk.utils.Rcheck Warnings: 0