Package: apeglm Version: 1.33.0 Command: /home/rapidbuild/bbs-3.22-bioc-rapid/R/bin/R CMD INSTALL apeglm StartedAt: 2025-10-30 12:20:51 -0400 (Thu, 30 Oct 2025) EndedAt: 2025-10-30 12:21:35 -0400 (Thu, 30 Oct 2025) EllapsedTime: 43.3 seconds RetCode: 0 Status: OK