Package: alabaster.matrix Version: 1.11.0 Command: /home/rapidbuild/bbs-3.22-bioc-rapid/R/bin/R CMD INSTALL alabaster.matrix StartedAt: 2025-10-30 12:15:00 -0400 (Thu, 30 Oct 2025) EndedAt: 2025-10-30 12:15:23 -0400 (Thu, 30 Oct 2025) EllapsedTime: 23.2 seconds RetCode: 0 Status: OK