Package: alabaster.matrix Version: 1.11.0 Command: /home/rapidbuild/bbs-3.22-bioc-rapid/R/bin/R CMD build --keep-empty-dirs --no-resave-data alabaster.matrix StartedAt: 2025-10-30 12:24:12 -0400 (Thu, 30 Oct 2025) EndedAt: 2025-10-30 12:24:41 -0400 (Thu, 30 Oct 2025) EllapsedTime: 29.0 seconds RetCode: 0 Status: OK PackageFile: alabaster.matrix_1.11.0.tar.gz PackageFileSize: 274.5 KiB