Package: alabaster.matrix Version: 1.11.0 Maintainer: Aaron Lun MaintainerEmail: infinite.monkeys.with.keyboards at gmail.com git_url: https://git.bioconductor.org/packages/alabaster.matrix git_branch: devel git_last_commit: c5028de git_last_commit_date: 2025-10-29 11:21:14 -0400 (Wed, 29 Oct 2025)