Package: affxparser Version: 1.83.0 Command: /home/rapidbuild/bbs-3.22-bioc-rapid/R/bin/R CMD INSTALL affxparser StartedAt: 2025-10-30 12:04:18 -0400 (Thu, 30 Oct 2025) EndedAt: 2025-10-30 12:05:21 -0400 (Thu, 30 Oct 2025) EllapsedTime: 63.5 seconds RetCode: 0 Status: OK