Package: affxparser Version: 1.83.0 Maintainer: Kasper Daniel Hansen MaintainerEmail: kasperdanielhansen at gmail.com git_url: https://git.bioconductor.org/packages/affxparser git_branch: devel git_last_commit: e8726cc git_last_commit_date: 2025-10-29 09:56:56 -0400 (Wed, 29 Oct 2025)