Package: XVector Version: 0.51.0 Command: /home/rapidbuild/bbs-3.22-bioc-rapid/R/bin/R CMD INSTALL XVector StartedAt: 2025-10-30 12:11:59 -0400 (Thu, 30 Oct 2025) EndedAt: 2025-10-30 12:12:11 -0400 (Thu, 30 Oct 2025) EllapsedTime: 11.4 seconds RetCode: 0 Status: OK