Package: XVector Version: 0.51.0 Maintainer: Hervé Pagès MaintainerEmail: hpages.on.github at gmail.com git_url: https://git.bioconductor.org/packages/XVector git_branch: devel git_last_commit: c527085 git_last_commit_date: 2025-10-29 10:14:52 -0400 (Wed, 29 Oct 2025)