Package: VisiumIO Version: 1.7.0 Maintainer: Marcel Ramos MaintainerEmail: marcel.ramos at sph.cuny.edu git_url: https://git.bioconductor.org/packages/VisiumIO git_branch: devel git_last_commit: 459a588 git_last_commit_date: 2025-10-29 11:27:23 -0400 (Wed, 29 Oct 2025)