Package: VariantAnnotation Version: 1.55.2 Command: /home/rapidbuild/bbs-3.22-bioc-rapid/R/bin/R CMD check --install=check:VariantAnnotation.install-out.txt --library=/home/rapidbuild/bbs-3.22-bioc-rapid/R/site-library --timings VariantAnnotation_1.55.2.tar.gz StartedAt: 2025-10-25 21:25:41 -0400 (Sat, 25 Oct 2025) EndedAt: 2025-10-25 21:34:05 -0400 (Sat, 25 Oct 2025) EllapsedTime: 504.2 seconds RetCode: 0 Status: WARNINGS CheckDir: VariantAnnotation.Rcheck Warnings: 1