Package: VariantAnnotation Version: 1.57.0 Maintainer: Bioconductor Package Maintainer MaintainerEmail: maintainer at bioconductor.org git_url: https://git.bioconductor.org/packages/VariantAnnotation git_branch: devel git_last_commit: 0da7ddb git_last_commit_date: 2025-10-29 10:08:24 -0400 (Wed, 29 Oct 2025)