Package: TFBSTools Version: 1.49.0 Maintainer: Ge Tan MaintainerEmail: ge_tan at live.com git_url: https://git.bioconductor.org/packages/TFBSTools git_branch: devel git_last_commit: d5d1319 git_last_commit_date: 2025-10-29 10:16:59 -0400 (Wed, 29 Oct 2025)