Package: TENxIO Version: 1.13.0 Command: /home/rapidbuild/bbs-3.22-bioc-rapid/R/bin/R CMD check --install=check:TENxIO.install-out.txt --library=/home/rapidbuild/bbs-3.22-bioc-rapid/R/site-library --timings TENxIO_1.13.0.tar.gz StartedAt: 2025-10-30 08:20:43 -0400 (Thu, 30 Oct 2025) EndedAt: 2025-10-30 08:23:12 -0400 (Thu, 30 Oct 2025) EllapsedTime: 149.6 seconds RetCode: 0 Status: OK CheckDir: TENxIO.Rcheck Warnings: 0