Package: TCGAbiolinks Version: 2.37.3 Command: /home/rapidbuild/bbs-3.22-bioc-rapid/R/bin/R CMD check --install=check:TCGAbiolinks.install-out.txt --library=/home/rapidbuild/bbs-3.22-bioc-rapid/R/site-library --timings TCGAbiolinks_2.37.3.tar.gz StartedAt: 2025-10-25 21:21:27 -0400 (Sat, 25 Oct 2025) EndedAt: 2025-10-25 21:33:58 -0400 (Sat, 25 Oct 2025) EllapsedTime: 750.6 seconds RetCode: 0 Status: WARNINGS CheckDir: TCGAbiolinks.Rcheck Warnings: 2