Package: Spectra Version: 1.21.0 Maintainer: RforMassSpectrometry Package Maintainer MaintainerEmail: maintainer at rformassspectrometry.org git_url: https://git.bioconductor.org/packages/Spectra git_branch: devel git_last_commit: 3a71e5d git_last_commit_date: 2025-10-29 11:01:49 -0400 (Wed, 29 Oct 2025)