Package: SpatialExperiment Version: 1.21.0 Command: /home/rapidbuild/bbs-3.22-bioc-rapid/R/bin/R CMD INSTALL SpatialExperiment StartedAt: 2025-10-30 12:19:40 -0400 (Thu, 30 Oct 2025) EndedAt: 2025-10-30 12:20:00 -0400 (Thu, 30 Oct 2025) EllapsedTime: 20.4 seconds RetCode: 0 Status: OK