Package: SpatialExperiment Version: 1.21.0 Command: /home/rapidbuild/bbs-3.22-bioc-rapid/R/bin/R CMD build --keep-empty-dirs --no-resave-data SpatialExperiment StartedAt: 2025-10-30 13:07:00 -0400 (Thu, 30 Oct 2025) EndedAt: 2025-10-30 13:07:47 -0400 (Thu, 30 Oct 2025) EllapsedTime: 46.3 seconds RetCode: 0 Status: OK PackageFile: SpatialExperiment_1.21.0.tar.gz PackageFileSize: 5.157 MiB