Package: SingleR Version: 2.11.4 Command: /home/rapidbuild/bbs-3.22-bioc-rapid/R/bin/R CMD check --install=check:SingleR.install-out.txt --library=/home/rapidbuild/bbs-3.22-bioc-rapid/R/site-library --timings SingleR_2.11.4.tar.gz StartedAt: 2025-10-25 21:15:52 -0400 (Sat, 25 Oct 2025) EndedAt: 2025-10-25 21:19:34 -0400 (Sat, 25 Oct 2025) EllapsedTime: 222.2 seconds RetCode: 0 Status: OK CheckDir: SingleR.Rcheck Warnings: 0