Package: SingleR Version: 2.13.0 Command: /home/rapidbuild/bbs-3.22-bioc-rapid/R/bin/R CMD build --keep-empty-dirs --no-resave-data SingleR StartedAt: 2025-10-30 13:05:28 -0400 (Thu, 30 Oct 2025) EndedAt: 2025-10-30 13:06:27 -0400 (Thu, 30 Oct 2025) EllapsedTime: 59.6 seconds RetCode: 1 Status: ERROR PackageFile: None PackageFileSize: NA