Package: SingleCellExperiment Version: 1.31.1 Command: /home/rapidbuild/bbs-3.22-bioc-rapid/R/bin/R CMD check --install=check:SingleCellExperiment.install-out.txt --library=/home/rapidbuild/bbs-3.22-bioc-rapid/R/site-library --timings SingleCellExperiment_1.31.1.tar.gz StartedAt: 2025-10-25 21:15:06 -0400 (Sat, 25 Oct 2025) EndedAt: 2025-10-25 21:18:11 -0400 (Sat, 25 Oct 2025) EllapsedTime: 185.3 seconds RetCode: 0 Status: OK CheckDir: SingleCellExperiment.Rcheck Warnings: 0