Package: SingleCellExperiment Version: 1.33.0 Maintainer: Davide Risso MaintainerEmail: risso.davide at gmail.com git_url: https://git.bioconductor.org/packages/SingleCellExperiment git_branch: devel git_last_commit: bdf6af0 git_last_commit_date: 2025-10-29 10:39:29 -0400 (Wed, 29 Oct 2025)