Package: ShortRead Version: 1.69.0 Maintainer: Bioconductor Package Maintainer MaintainerEmail: maintainer at bioconductor.org git_url: https://git.bioconductor.org/packages/ShortRead git_branch: devel git_last_commit: eeb7d58 git_last_commit_date: 2025-10-29 10:00:34 -0400 (Wed, 29 Oct 2025)