Package: ScaledMatrix Version: 1.19.0 Maintainer: Aaron Lun MaintainerEmail: infinite.monkeys.with.keyboards at gmail.com git_url: https://git.bioconductor.org/packages/ScaledMatrix git_branch: devel git_last_commit: 439f56b git_last_commit_date: 2025-10-29 11:05:33 -0400 (Wed, 29 Oct 2025)