Package: S4Vectors Version: 0.47.6 Command: /home/rapidbuild/bbs-3.22-bioc-rapid/R/bin/R CMD check --install=check:S4Vectors.install-out.txt --library=/home/rapidbuild/bbs-3.22-bioc-rapid/R/site-library --timings S4Vectors_0.47.6.tar.gz StartedAt: 2025-10-25 21:07:52 -0400 (Sat, 25 Oct 2025) EndedAt: 2025-10-25 21:09:14 -0400 (Sat, 25 Oct 2025) EllapsedTime: 82.0 seconds RetCode: 0 Status: WARNINGS CheckDir: S4Vectors.Rcheck Warnings: 2