Package: S4Vectors Version: 0.49.0 Command: /home/rapidbuild/bbs-3.22-bioc-rapid/R/bin/R CMD build --keep-empty-dirs --no-resave-data S4Vectors StartedAt: 2025-10-30 13:02:11 -0400 (Thu, 30 Oct 2025) EndedAt: 2025-10-30 13:02:45 -0400 (Thu, 30 Oct 2025) EllapsedTime: 34.3 seconds RetCode: 1 Status: ERROR PackageFile: None PackageFileSize: NA