Package: S4Vectors Version: 0.49.0 Maintainer: Hervé Pagès MaintainerEmail: hpages.on.github at gmail.com git_url: https://git.bioconductor.org/packages/S4Vectors git_branch: devel git_last_commit: cead68c git_last_commit_date: 2025-10-29 14:48:28 -0400 (Wed, 29 Oct 2025)