Package: S4Arrays Version: 1.11.0 Maintainer: Hervé Pagès MaintainerEmail: hpages.on.github at gmail.com git_url: https://git.bioconductor.org/packages/S4Arrays git_branch: devel git_last_commit: 6660826 git_last_commit_date: 2025-10-29 14:51:51 -0400 (Wed, 29 Oct 2025)